BEGIN:VCALENDAR
VERSION:2.0
PRODID:-//Slave Lake Region™ - ECPv6.15.20//NONSGML v1.0//EN
CALSCALE:GREGORIAN
METHOD:PUBLISH
X-WR-CALNAME:Slave Lake Region™
X-ORIGINAL-URL:https://slavelakeregion.ca
X-WR-CALDESC:Events for Slave Lake Region™
REFRESH-INTERVAL;VALUE=DURATION:PT1H
X-Robots-Tag:noindex
X-PUBLISHED-TTL:PT1H
BEGIN:VTIMEZONE
TZID:America/Edmonton
BEGIN:DAYLIGHT
TZOFFSETFROM:-0700
TZOFFSETTO:-0600
TZNAME:MDT
DTSTART:20240310T090000
END:DAYLIGHT
BEGIN:STANDARD
TZOFFSETFROM:-0600
TZOFFSETTO:-0700
TZNAME:MST
DTSTART:20241103T080000
END:STANDARD
BEGIN:DAYLIGHT
TZOFFSETFROM:-0700
TZOFFSETTO:-0600
TZNAME:MDT
DTSTART:20250309T090000
END:DAYLIGHT
BEGIN:STANDARD
TZOFFSETFROM:-0600
TZOFFSETTO:-0700
TZNAME:MST
DTSTART:20251102T080000
END:STANDARD
BEGIN:DAYLIGHT
TZOFFSETFROM:-0700
TZOFFSETTO:-0600
TZNAME:MDT
DTSTART:20260308T090000
END:DAYLIGHT
BEGIN:STANDARD
TZOFFSETFROM:-0600
TZOFFSETTO:-0700
TZNAME:MST
DTSTART:20261101T080000
END:STANDARD
END:VTIMEZONE
BEGIN:VEVENT
DTSTART;VALUE=DATE:20250729
DTEND;VALUE=DATE:20250731
DTSTAMP:20260422T233021
CREATED:20250618T220047Z
LAST-MODIFIED:20250618T220047Z
UID:18991-1753747200-1753919999@slavelakeregion.ca
SUMMARY:63rd Elks Pro Rodeo High Prairie
DESCRIPTION:🐎🎉 The 63rd Annual Elks Pro Rodeo📍 High Prairie\, AB🗓 July 29 & 30\, 2025🌐 hpelks.ca \nGet ready for 2 action-packed days of rodeo excitement\, family fun\, and nightly dancing at one of Alberta’s longest-running and most thrilling events! \n🎈 PARADE: July 29 at 11:00 AM🤠 RODEO PERFORMANCES:• July 29 at 1:30 PM• July 30 at 2:30 PM \n🎡 West Coast Amusements🍻 Elks Beer Gardens (Daily)🎟 Games of Chance • ATV Raffle • Concessions \n🎤 Nightly Dance with Donny Lee – doors open at 9:30 PM! \n🔥 Pro Rodeo Events:Bareback • Saddle Bronc • Bull Riding • Team Roping • Steer Wrestling • Ladies Barrels • Breakaway Roping & more! \n👨‍👩‍👧 Amateur & Family Fun:Wild Pony Race • Calf Scramble • Wild Cow Milking • Jr. Barrels • Pony Chuckwagons • Chariot Races • Clown Acts • Muttin Bustin’ (Register July 2nd!) \n📞 Contact: 780-523-3724 for more info or registration.🏆 Sanctioned by PRCA & CPRA \n📸 Come make memories and experience the wild west spirit in High Prairie this summer!
URL:https://slavelakeregion.ca/event/63rd-elks-pro-rodeo-high-prairie/
LOCATION:High Prairie Rodeo Grounds\, High Prairie\, Alberta\, Canada
ATTACH;FMTTYPE=image/jpeg:https://slavelakeregion.ca/wp-content/uploads/Elks-Pro-rodeo.jpg
ORGANIZER;CN="High Prairie Elks #279":MAILTO:hpelks@telus.net
END:VEVENT
BEGIN:VEVENT
DTSTART;VALUE=DATE:20250711
DTEND;VALUE=DATE:20250714
DTSTAMP:20260422T233021
CREATED:20250317T184419Z
LAST-MODIFIED:20250325T211133Z
UID:18890-1752192000-1752451199@slavelakeregion.ca
SUMMARY:Crash for Cash 2025!
DESCRIPTION:Get ready for the 2nd Annual Slave Lake CRASH FOR CASH Demolition Derby! Bigger crashes\, bigger prizes! \nWhen? July 11\, 12\, 13\, 2025 \nWhere? Next to Flat Top Motocross Track\, Slave Lake\, Alberta \nConcessions & Beer Gardens with live music by Puttin’ on the Foil. Camping available on site! \nFor more info\, contact Gunner Persson at  780-805-4724
URL:https://slavelakeregion.ca/event/crash-for-cash-2025/
LOCATION:Alberta
ATTACH;FMTTYPE=image/jpeg:https://slavelakeregion.ca/wp-content/uploads/Crash-for-Cash.jpg
END:VEVENT
BEGIN:VEVENT
DTSTART;VALUE=DATE:20250704
DTEND;VALUE=DATE:20250707
DTSTAMP:20260422T233021
CREATED:20250618T215751Z
LAST-MODIFIED:20250618T215751Z
UID:18982-1751587200-1751846399@slavelakeregion.ca
SUMMARY:River Boat Daze 2025
DESCRIPTION:🎉 Riverboat Daze: Small Town Summer! ☀️🗓 July 4–6 | Slave Lake\, ABJoin us for 3 days of fun\, food\, and entertainment for all ages at this year’s Riverboat Daze\, hosted by the Slave Lake & District Chamber of Commerce! \n👉 Friday\, July 4🎈 Parade at 6PM🎶 Street dance with live music by MWood Band🎆 Fireworks at dusk🍔 Food trucks\, family fun & more! \n👉 Saturday\, July 5🛍 11AM–4PM: Slave Lake Farmers’ Market🍻 5PM: Legion Beer Gardens with live music from MWood Band & food trucks! \n👉 Sunday\, July 6🎡 Final day of the Carnival on Hwy 88!Enjoy classic fair rides\, games & more! \n🎟 Carnival Tickets (Cash Only) available at:• Southshore Hidden Treasures• Slave Lake Chrysler• Creative Goods & Co. \n💻 Visit www.myslavelake.ca for details.
URL:https://slavelakeregion.ca/event/river-boat-daze-2025/
LOCATION:Alberta
ATTACH;FMTTYPE=image/jpeg:https://slavelakeregion.ca/wp-content/uploads/River-Boat-Daze-2025.jpg
ORGANIZER;CN="Slave Lake Chamber of Commerce":MAILTO:slavelakechamber@gmail.com
END:VEVENT
BEGIN:VEVENT
DTSTART;TZID=America/Edmonton:20250702T180011
DTEND;TZID=America/Edmonton:20250702T180011
DTSTAMP:20260422T233021
CREATED:20250702T180011Z
LAST-MODIFIED:20250702T180011Z
UID:19027-1751479211-1751479211@slavelakeregion.ca
SUMMARY:Slave Lake Farmers Market
DESCRIPTION:🧺 The Summer Slave Lake Farmers’ Market Series is Here!Come out and support local makers\, bakers\, and growers at this season’s open-air markets — packed with fresh produce\, homemade treats\, and handcrafted goods. \n📍 Location: Main Street Slave Lake🗓️ Dates:• July 26• August 9 & 23• September 6🕙 Time: 10 AM – 2 PM🎟️ No Entry Fee! \n🍓 Fresh fruits & veggies🍞 Artisan breads & baked goods🎨 Handcrafted gifts & local art💐 Seasonal flowers\, preserves\, and more! \nWhether you’re hunting for unique gifts\, picking up weekend treats\, or simply enjoying the vibrant local atmosphere — the Slave Lake Farmers’ Market is the place to be this summer. \n🌐 For full details\, visit: SlaveLakeFarmersMarket.ca
URL:https://slavelakeregion.ca/event/slave-lake-farmers-market/
LOCATION:Alberta
ATTACH;FMTTYPE=image/png:https://slavelakeregion.ca/wp-content/uploads/SLFM-Posters.png
END:VEVENT
BEGIN:VEVENT
DTSTART;TZID=America/Edmonton:20250628T120000
DTEND;TZID=America/Edmonton:20250628T170000
DTSTAMP:20260422T233021
CREATED:20250626T213337Z
LAST-MODIFIED:20250626T215711Z
UID:19013-1751112000-1751130000@slavelakeregion.ca
SUMMARY:Town Of Slave Lake Teen Carnival
DESCRIPTION: Teen Carnival 2025 \nPresented by the Slave Lake Youth Advisory Committee \n June 28\, 2025 \n 12PM – 5PM \n MRC Fieldhouse\, 305 6 Ave SW\, Slave Lake \n Ages 12–18 ONLY – Free Entry! \nGet ready for an afternoon packed with fun\, music\, and carnival vibes just for teens! \n Dance with a LIVE DJ \n Play games & snap pics in the photobooth \n Grab treats & enjoy the carnival atmosphere \nTell your friends and don’t miss it — this is YOUR event! \n#TeenCarnival2025 #SlaveLakeYouth #SummerVibes #FreeFun #TeenEvent
URL:https://slavelakeregion.ca/event/19013/
LOCATION:Multi-Rec Centre\, 305 6 Avenue SW\, Slave Lake\, AB\, T0G 2A4\, Canada
ATTACH;FMTTYPE=image/png:https://slavelakeregion.ca/wp-content/uploads/1.png
END:VEVENT
BEGIN:VEVENT
DTSTART;TZID=America/Edmonton:20250628T100000
DTEND;TZID=America/Edmonton:20250628T140000
DTSTAMP:20260422T233021
CREATED:20250618T221910Z
LAST-MODIFIED:20250618T222219Z
UID:19006-1751104800-1751119200@slavelakeregion.ca
SUMMARY:Kinuso Farmers Market 2025
DESCRIPTION:🌾🛍️ Kinuso Farmers’ Market 2025📍 Kinuso AG Hall🕙 10:00 AM – 2:00 PM \nMark your calendars and come support local! Join us for fresh produce\, homemade baking\, handmade goods\, crafts\, preserves\, and more from local vendors. Each market is a celebration of community\, creativity\, and small-town charm. \n🗓️ Market Dates:• May 17 & 31• June 14 & 28• July 5 & 19• August 2 & 16• August 23 – Kinuso Fall Fair• August 30🎄 Christmas Market – November 29 \nBring your baskets\, your appetite\, and your community spirit—we can’t wait to see you there!
URL:https://slavelakeregion.ca/event/kinuso-farmers-market-2025/
LOCATION:Kinuso Ag Hall\, 55 Centre Street\, Kinuso\, Alberta\, T0G1K0\, Canada
ATTACH;FMTTYPE=image/jpeg:https://slavelakeregion.ca/wp-content/uploads/Kinuso-farmers-Market.jpg
END:VEVENT
BEGIN:VEVENT
DTSTART;TZID=America/Edmonton:20250628T083000
DTEND;TZID=America/Edmonton:20250628T103000
DTSTAMP:20260422T233021
CREATED:20250618T221336Z
LAST-MODIFIED:20250618T221336Z
UID:19000-1751099400-1751106600@slavelakeregion.ca
SUMMARY:Kinuso Canada Day 2025 Pancake Breakfast
DESCRIPTION:🥞 Canada Day Celebration in Kinuso! 🎉📅 Saturday\, June 28th\, 2025📍 Kinuso Fire Hall & Parade Route \nStart your Canada Day celebrations early with a joyful morning in Kinuso!👨‍🚒 Join the Kinuso Fire Department for a Pancake Breakfast from 8:30 AM to 10:30 AM🍴 $5.00 for kids | $10.00 for adults🥞 Fluffy pancakes\, syrup\, and community spirit! \n🎈 Parade begins at 11:00 AM — don’t miss the fun\, floats\, and festive vibes as we celebrate together! \nBring your family and friends for a day full of smiles and small-town charm.Let’s celebrate Canada Day – Kinuso style! 🇨🇦
URL:https://slavelakeregion.ca/event/kinuso-canada-day-2025-pancake-breakfast/
LOCATION:Kinuso Fire Hall\, 205 2 St\, Kinuso\, Alberta\, T0G1K0\, Canada
ATTACH;FMTTYPE=image/jpeg:https://slavelakeregion.ca/wp-content/uploads/SPP-Pancake-Breakfast.jpg
END:VEVENT
BEGIN:VEVENT
DTSTART;VALUE=DATE:20250628
DTEND;VALUE=DATE:20250630
DTSTAMP:20260422T233021
CREATED:20250618T221730Z
LAST-MODIFIED:20250618T221730Z
UID:19003-1751068800-1751241599@slavelakeregion.ca
SUMMARY:8th Annual Spruce Point Park Rodeo
DESCRIPTION:🐎🎉 8th Annual Rodeo at Spruce Point Park📍 Spruce Point Park Rodeo Grounds\, Kinuso\, AB🗓 Saturday & Sunday | June 28 & 29\, 2025🕑 Rodeo starts at 2 PM daily🎟️ FREE Weekend Admission! \nGet ready for a wild weekend of rodeo action\, family fun\, and community spirit on the shores of Lesser Slave Lake! \n🔥 Rodeo Highlights:• Mini Broncs • Mutton Bustin’ • Calf Scramble• Wild Pony Races • Wild Cow Milking• Barrel Racing • Team Roping• Prizes for best dressed western wear! \n🎆 Saturday Night:• Fireworks at dusk• Family Dance with KIVELL at 9 PM🎟️ Admission: $15 (Ages 15+) | Kids under 14 FREE \n🎠 Friday Night Pre-Show:• Ridin’ 4 Reed Wild West Show at 5 PM($5 at the gate – gates open at 4 PM) \n🎤 Special Guest: Ricky Ticky Wanchuk \n💰 Event Payouts:• Bareback: $2\,000• Bull Riding: $2\,000• Saddle Bronc: $1\,500 \nBig thanks to our sponsors and supporters for making this community event possible! \n📱 Follow Spruce Point Park Campground and Marina on Facebook for updates.📍 Don’t miss this action-packed weekend in Kinuso!
URL:https://slavelakeregion.ca/event/8th-annual-spruce-point-park-rodeo/
LOCATION:Spruce Point Park Rodeo Grounds\, 74018 Range Road 104\, Kinuso\, Alberta\, T0G1K0\, Canada
ATTACH;FMTTYPE=image/jpeg:https://slavelakeregion.ca/wp-content/uploads/SPP-Rodeo.jpg
ORGANIZER;CN="Spruce Point Park":MAILTO:www.sprucepointpark.ca
END:VEVENT
BEGIN:VEVENT
DTSTART;VALUE=DATE:20250621
DTEND;VALUE=DATE:20250622
DTSTAMP:20260422T233021
CREATED:20250618T220921Z
LAST-MODIFIED:20250618T220921Z
UID:18993-1750464000-1750550399@slavelakeregion.ca
SUMMARY:Annual Wabasca Pow Wow
DESCRIPTION:🧡 Annual Wabasca Pow Wow – “Honoring Our Youth” 🧡📅 Saturday\, June 21\, 2025🕛 12:00 PM – 6:00 PM📍 BCN Cultural Grounds (next to Marian Wolitski Arena) \nJoin Bigstone Cree Nation and the MD of Opportunity for a vibrant day of culture\, celebration\, and community as we come together to honor and uplift our youth. \n🎉 Grand Entry at 1:00 PM🎶 Host Drum: Red Elk🎤 Emcee: Al Crawford \n✨ Highlights include:🌟 Initiation Special🎁 Giveaway🍽️ Feast🎊 Parade \nEveryone is welcome to attend and take part in this meaningful and family-friendly gathering! \n📞 For more info:Jonah Letendre – 780-891-3777 | jonah.letendre@bigstonehealth.caRegan Auger – 780-773-5208 | regan.auger@mdopportunity.ab.ca
URL:https://slavelakeregion.ca/event/annual-wabasca-pow-wow/
LOCATION:Bigstone Cree Nation Cultural Grounds\, Wabasca\, Canada
ATTACH;FMTTYPE=image/jpeg:https://slavelakeregion.ca/wp-content/uploads/Wabasca-Pow-Wow.jpg
ORGANIZER;CN="MD of Opportunity":MAILTO:regan.auger@mdopportunity.ab.ca
END:VEVENT
BEGIN:VEVENT
DTSTART;VALUE=DATE:20250620
DTEND;VALUE=DATE:20250623
DTSTAMP:20260422T233021
CREATED:20250317T175045Z
LAST-MODIFIED:20250317T175045Z
UID:18887-1750377600-1750636799@slavelakeregion.ca
SUMMARY:North Country Fair 2025
DESCRIPTION:The North Country Fair is an outdoor music festival held June 20-22\, 2025\, in the Big Lakes County\, AB. \nTickets available at northcountryfair.ca \nThe gate opens on Thursday June 19\, 2025 @ 8:00am. No early entry or lining up in advance. \nAdvanced tickets available now! \nCamping is always free. \nVisit the website for all details.
URL:https://slavelakeregion.ca/event/north-country-fair-2025/
LOCATION:Alberta
ATTACH;FMTTYPE=image/jpeg:https://slavelakeregion.ca/wp-content/uploads/North-Country-Fair.jpg
ORGANIZER;CN="North Country Fair":MAILTO:info@lslncca.ca
END:VEVENT
BEGIN:VEVENT
DTSTART;VALUE=DATE:20250620
DTEND;VALUE=DATE:20250622
DTSTAMP:20260422T233021
CREATED:20250407T214715Z
LAST-MODIFIED:20250407T214715Z
UID:18943-1750377600-1750550399@slavelakeregion.ca
SUMMARY:Canadian Tire Anglers Cup!
DESCRIPTION:Calling all anglers! The Canadian Tire Anglers Cup is back in Slave Lake\, AB on June 20 & 21\, 2025 – and its going to be bigger then ever. \nOver $97\,000 is up for grabs! \nProceeds go to the Volunteer Fire Department & Slave Lake Curling Club! \nLet’s get hooked on competition and community – see you on the water. \nRegister now at www.anglerscup.ca
URL:https://slavelakeregion.ca/event/canadian-tire-anglers-cup/
LOCATION:Alberta
ATTACH;FMTTYPE=image/jpeg:https://slavelakeregion.ca/wp-content/uploads/Anglers-cup-2025.jpg
ORGANIZER;CN="Anglers Cup":MAILTO:anglerscup2@gmail.com
END:VEVENT
BEGIN:VEVENT
DTSTART;VALUE=DATE:20250524
DTEND;VALUE=DATE:20250526
DTSTAMP:20260422T233021
CREATED:20250425T210852Z
LAST-MODIFIED:20250425T210852Z
UID:18958-1748044800-1748217599@slavelakeregion.ca
SUMMARY:28th Annual SongBird Festival
DESCRIPTION:Spring is here\, and that means that our 28th ANNUAL SONGBIRD FESTIVAL will be happening soon! On SATURDAY\, MAY 24th\, help us celebrate spring migration with a wonderful morning of birding\, tours of the Lesser Slave Lake Bird Observatory\, nature workshops\, and family fun. Then join us on SUNDAY\, MAY 25th for the 19th Annual LSLBO Bird Run/Walk along our beautiful forested trails. It is a pretty magical weekend!\n\n\nFor more information\, check out the LSLBO Songbird Festival Page (see link in comment) or call us at 780-849-8240.
URL:https://slavelakeregion.ca/event/28th-annual-songbird-festival/
LOCATION:Boreal Centre for Bird Conservation\, Lesser Slave Lake Provincial Park\, Slave Lake\, Alberta\, T0G 2A0\, Canada
ATTACH;FMTTYPE=image/jpeg:https://slavelakeregion.ca/wp-content/uploads/Songbird-Festival.jpg
ORGANIZER;CN="Lesser Slave Lake Bird Observatory":MAILTO:info@lslbo.org
END:VEVENT
BEGIN:VEVENT
DTSTART;TZID=America/Edmonton:20250523T080000
DTEND;TZID=America/Edmonton:20250524T170000
DTSTAMP:20260422T233021
CREATED:20250407T213859Z
LAST-MODIFIED:20250407T215215Z
UID:18937-1747987200-1748106000@slavelakeregion.ca
SUMMARY:Larry Dahlgren Walleye Tournament
DESCRIPTION:The fish are calling! \nThe 2025 Annual Larry Dahlgren Walleye Tournament is happening May 23 & 24 at Spruce Point Park in Kinuso\, AB – and yes it’s running regardless of water levels. Let’s make it another legendary weekend on the water. \nTo register or enquire: \nEmail: hunt.julia1@gmail.com
URL:https://slavelakeregion.ca/event/18937/
LOCATION:Spruce Point Park Campground & Marina\, 74018 Range Road 104\, Kinuso\, AB\, T0G2K0\, Canada
ATTACH;FMTTYPE=image/jpeg:https://slavelakeregion.ca/wp-content/uploads/Larry-Dahlgren-fishing-tournament.jpg
END:VEVENT
BEGIN:VEVENT
DTSTART;VALUE=DATE:20250503
DTEND;VALUE=DATE:20250504
DTSTAMP:20260422T233021
CREATED:20250423T190743Z
LAST-MODIFIED:20250423T190743Z
UID:18955-1746230400-1746316799@slavelakeregion.ca
SUMMARY:High Prairie Traditional Pow Wow
DESCRIPTION:We are excited to invite you to the 10th Annual High Prairie Traditional Pow Wow\, taking place on Saturday\, May 3\, 2025. This year marks a special milestone — a full decade of celebrating culture\, tradition\, and community togetherness.\n\nWe are pleased to announce that registrations are now open for several exciting opportunities:\n \n\nDancer Registration\n Register here https://docs.google.com/…/1FAIpQLSecNAd1sMC…/viewform…\n\n\n Regional Youth Hand Games Team Registration\n $250 per team – Secure your spot today!\n Register here https://forms.gle/Y2Qk1QiT8nsUv6519\n\n\n Vendor Registration\n Register here https://forms.gle/mLikkvX6BHMUZBL87\n\n\n Volunteer Registration\n Register here https://forms.gle/hQFRaEoP5TMZvT4v8\n\n\n Princess Pageant Registration – Junior & Senior Categories\n Register here https://docs.google.com/…/1FAIpQLSd…/viewform…\n\n\n Drum Registration https://docs.google.com/…/1FAIpQLSd…/viewform…\n\n\nHelp us make this event a success!\n Sponsorship Opportunities https://drive.google.com/…/1hPnHZ…\nHelp us make this event a success!
URL:https://slavelakeregion.ca/event/high-prairie-traditional-pow-wow/
LOCATION:High Prairie Sports Palace\, 5409 49 ST\, High Prairie\, AB\, T0G1E0\, Canada
ATTACH;FMTTYPE=image/jpeg:https://slavelakeregion.ca/wp-content/uploads/Hp-Pow-Wow-2025-1.jpg
END:VEVENT
BEGIN:VEVENT
DTSTART;VALUE=DATE:20250426
DTEND;VALUE=DATE:20250428
DTSTAMP:20260422T233021
CREATED:20250407T212743Z
LAST-MODIFIED:20250407T215250Z
UID:18928-1745625600-1745798399@slavelakeregion.ca
SUMMARY:Gun & Sportsman Show
DESCRIPTION:The @hpfishandgame association Annual Gun\, Sportsman Show and Artisan Market is coming to the High Prairie Sports Palace April 26 & 27\, 2025.\nSave the date for this incredible annual event. Join them for a weekend packed with over 250 exhibits\, 3 arenas\, and something for everyone – from outdoor enthusiasts to artisan lovers!\nBe sure to go hungry as the food vendors will not disappoint.\nThe Gun & Sportsman show is fun for the whole family.\nCOME OUT\, SUPPORT LOCAL\, and ENJOY THE SHOW!\nSee the poster for all the details!
URL:https://slavelakeregion.ca/event/18928/
LOCATION:High Prairie Sports Palace\, 5409 49 ST\, High Prairie\, AB\, T0G1E0\, Canada
ATTACH;FMTTYPE=image/jpeg:https://slavelakeregion.ca/wp-content/uploads/HP-Gun-Show.jpg
ORGANIZER;CN="High Prairie Fish & Game Association":MAILTO:hpfishandgame@hotmail.com
END:VEVENT
BEGIN:VEVENT
DTSTART;VALUE=DATE:20250426
DTEND;VALUE=DATE:20250428
DTSTAMP:20260422T233021
CREATED:20250325T214334Z
LAST-MODIFIED:20250325T214334Z
UID:18916-1745625600-1745798399@slavelakeregion.ca
SUMMARY:High Prairie Spring Rodeo
DESCRIPTION:SAVE THE DATE!!! \nRodeo action returns to High Prairie! Hope to see you all at the High Prairie Agricultural Society’s Spring Rodeo on April 26th & 27th!
URL:https://slavelakeregion.ca/event/high-prairie-spring-rodeo/
LOCATION:High Prairie Agriplex\, Box 1773\, High Prairie\, AB\, T0G1E0\, Canada
ATTACH;FMTTYPE=image/jpeg:https://slavelakeregion.ca/wp-content/uploads/HP-Spring-Rodeo.jpg
END:VEVENT
BEGIN:VEVENT
DTSTART;TZID=America/Edmonton:20250412T180000
DTEND;TZID=America/Edmonton:20250412T220000
DTSTAMP:20260422T233021
CREATED:20250402T185922Z
LAST-MODIFIED:20250402T185922Z
UID:18923-1744480800-1744495200@slavelakeregion.ca
SUMMARY:Kenny Shaw Dinner & Comedy Show
DESCRIPTION:Gather your friends\, family\, or even treat yourself to this unique event at the Pioneer Threshermans Assoc. Triangle Hall!  Don’t miss the chance to enjoy a night out that promises laughter\, intrigue\, and exceptional performance. Tickets are selling fast\, so secure yours today and make April 12 a night to remember!
URL:https://slavelakeregion.ca/event/kenny-shaw-dinner-comedy-show/
LOCATION:Alberta
ATTACH;FMTTYPE=image/jpeg:https://slavelakeregion.ca/wp-content/uploads/Kenny-Shaw-Dinner-show.jpg
END:VEVENT
END:VCALENDAR